BEGIN:VCALENDAR
VERSION:2.0
PRODID:icalendar-ruby
CALSCALE:GREGORIAN
METHOD:PUBLISH
BEGIN:VEVENT
DTSTAMP:20260422T102746Z
UID:5-1173366@remnantkingdom.tithelysetup2.com
DTSTART:20260726T180000Z
DTEND:20260726T190000Z
CLASS:PUBLIC
CREATED:20260421T180502
DESCRIPTION:Sunday Worship
LAST-MODIFIED:20260421T180502
LOCATION:
SUMMARY:Sunday Worship
URL;VALUE=URI:https://www.remnantkingdomfellowship.org/events/sunday-worshi
 p/2026-07-26
END:VEVENT
END:VCALENDAR
