BEGIN:VCALENDAR
VERSION:2.0
PRODID:icalendar-ruby
CALSCALE:GREGORIAN
METHOD:PUBLISH
BEGIN:VEVENT
DTSTAMP:20260422T122023Z
UID:5-1173746@remnantkingdom.tithelysetup2.com
DTSTART:20260802T180000Z
DTEND:20260802T190000Z
CLASS:PUBLIC
CREATED:20260422T051015
DESCRIPTION:Sunday Worship
LAST-MODIFIED:20260422T051015
LOCATION:
SUMMARY:Sunday Worship
URL;VALUE=URI:https://www.remnantkingdomfellowship.org/events/sunday-worshi
 p/2026-08-02
END:VEVENT
END:VCALENDAR
