BEGIN:VCALENDAR
VERSION:2.0
PRODID:icalendar-ruby
CALSCALE:GREGORIAN
METHOD:PUBLISH
BEGIN:VEVENT
DTSTAMP:20260422T140418Z
UID:5-1173747@remnantkingdom.tithelysetup2.com
DTSTART:20260809T180000Z
DTEND:20260809T190000Z
CLASS:PUBLIC
CREATED:20260422T051015
DESCRIPTION:Sunday Worship
LAST-MODIFIED:20260422T051015
LOCATION:
SUMMARY:Sunday Worship
URL;VALUE=URI:https://www.remnantkingdomfellowship.org/events/sunday-worshi
 p/2026-08-09
END:VEVENT
END:VCALENDAR
