BEGIN:VCALENDAR
VERSION:2.0
PRODID:icalendar-ruby
CALSCALE:GREGORIAN
METHOD:PUBLISH
BEGIN:VEVENT
DTSTAMP:20260422T160604Z
UID:5-1174127@remnantkingdom.tithelysetup2.com
DTSTART:20260816T180000Z
DTEND:20260816T190000Z
CLASS:PUBLIC
CREATED:20260422T080513
DESCRIPTION:Sunday Worship
LAST-MODIFIED:20260422T080513
LOCATION:
SUMMARY:Sunday Worship
URL;VALUE=URI:https://www.remnantkingdomfellowship.org/events/sunday-worshi
 p/2026-08-16
END:VEVENT
END:VCALENDAR
