BEGIN:VCALENDAR
VERSION:2.0
PRODID:icalendar-ruby
CALSCALE:GREGORIAN
METHOD:PUBLISH
BEGIN:VEVENT
DTSTAMP:20260422T194329Z
UID:5-1174508@remnantkingdom.tithelysetup2.com
DTSTART:20260830T180000Z
DTEND:20260830T190000Z
CLASS:PUBLIC
CREATED:20260422T110022
DESCRIPTION:Sunday Worship
LAST-MODIFIED:20260422T110022
LOCATION:
SUMMARY:Sunday Worship
URL;VALUE=URI:https://www.remnantkingdomfellowship.org/events/sunday-worshi
 p/2026-08-30
END:VEVENT
END:VCALENDAR
