BEGIN:VCALENDAR
VERSION:2.0
PRODID:icalendar-ruby
CALSCALE:GREGORIAN
METHOD:PUBLISH
BEGIN:VEVENT
DTSTAMP:20260422T212513Z
UID:5-1174888@remnantkingdom.tithelysetup2.com
DTSTART:20260906T180000Z
DTEND:20260906T190000Z
CLASS:PUBLIC
CREATED:20260422T135529
DESCRIPTION:Sunday Worship
LAST-MODIFIED:20260422T135529
LOCATION:
SUMMARY:Sunday Worship
URL;VALUE=URI:https://www.remnantkingdomfellowship.org/events/sunday-worshi
 p/2026-09-06
END:VEVENT
END:VCALENDAR
