BEGIN:VCALENDAR
VERSION:2.0
PRODID:icalendar-ruby
CALSCALE:GREGORIAN
METHOD:PUBLISH
BEGIN:VEVENT
DTSTAMP:20260423T094243Z
UID:5-1175654@remnantkingdom.tithelysetup2.com
DTSTART:20261101T190000Z
DTEND:20261101T200000Z
CLASS:PUBLIC
CREATED:20260422T194107
DESCRIPTION:Sunday Worship
LAST-MODIFIED:20260422T194107
LOCATION:
SUMMARY:Sunday Worship
URL;VALUE=URI:https://www.remnantkingdomfellowship.org/events/sunday-worshi
 p/2026-11-01
END:VEVENT
END:VCALENDAR
